BEGIN:VCALENDAR
VERSION:2.0
PRODID:-//85.13.138.186//NONSGML kigkonsult.se iCalcreator 2.20//
CALSCALE:GREGORIAN
METHOD:PUBLISH
X-WR-TIMEZONE:Europe/Berlin
BEGIN:VEVENT
UID:event10579@Gesamtkirchengemeinde Lehrte
DTSTAMP:20260422T083639Z
CATEGORIES:Frauen\, Männer
DESCRIPTION:Glaubenswerkstatt\nCategory: Frauen\, Männer\nLink: http://www.
 xn--matthus-lehrte-9hb.de/index.php?option=com_jem&view=event&id=10579:gla
 ubenswerkstatt\n
DTSTART;TZID=Europe/Berlin:20261223T200000
DTEND;TZID=Europe/Berlin:20261223T200000
LOCATION:Kirchenzentrum
SUMMARY:Glaubenswerkstatt
URL:http://www.xn--matthus-lehrte-9hb.de/index.php?option=com_jem&view=even
 t&id=10579:glaubenswerkstatt
END:VEVENT
END:VCALENDAR